BEGIN:VCALENDAR
PRODID:-//Microsoft Corporation//Outlook 12.0 MIMEDIR//EN
VERSION:2.0
CALSCALE:GREGORIAN
BEGIN:VEVENT
UID: 607d4bd1-86e6-40e7-9ecd-f64aaab7aa98
SUMMARY:Päikesekiirte kevadpidu
DTSTAMP:20260528T170000
DTSTART:20260528T170000
DTEND:20260528T180000
LOCATION:Lasteaed
DESCRIPTION: <p><strong>Link: </strong>https://tla.tahkuranna.ee/et/sundmuste-kalender/paikesekiirte-kevadpidu</p><p><strong>Hind: </strong></p>
STATUS:CONFIRMED
SEQUENCE:3
X-ALT-DESC;FMTTYPE=text/html:<p><strong>Link: </strong>https://tla.tahkuranna.ee/et/sundmuste-kalender/paikesekiirte-kevadpidu</p><p><strong>Hind: </strong></p>
X-MICROSOFT-CDO-BUSYSTATUS:OOF
X-MICROSOFT-CDO-IMPORTANCE:1
X-MICROSOFT-DISALLOW-COUNTER:FALSE
X-MS-OLK-ALLOWEXTERNCHECK:TRUE
X-MS-OLK-CONFTYPE:0
X-MICROSOFT-CDO-ALLDAYEVENT:
X-MICROSOFT-MSNCALENDAR-ALLDAYEVENT:
END:VEVENT
END:VCALENDAR